BEGIN:VCALENDAR
VERSION:2.0
CALSCALE:GREGORIAN
PRODID:adamgibbons/ics
METHOD:PUBLISH
X-PUBLISHED-TTL:PT1H
BEGIN:VEVENT
UID:3946@lapunta.org
SUMMARY:MOBILITAZIONE GKN
DTSTAMP:20260421T082320Z
DTSTART:20240712T180000Z
DTEND:20240712T220000Z
DESCRIPTION:12 luglio\, Firenze\, h 20.00\, sotto la torre di San Niccolò.\
	nLa fame non c'è passata. Abbiamo fame di un mondo nuovo.\n\nNon è mai sta
	to solo un concerto e infatti non sarà solo un concerto. Non è un\n"festeg
	giamento"\, perché di certo l'obiettivo non era di per sè andare avanti\nt
	re anni. Ma abbiamo resistito per tre anni e ci meritiamo un concerto\, un
	\nbrindisi\, un abbraccio. Siamo storia bella.\n\nCon le ultime energie in
	 corpo\, abbiamo iniziato l'ultima sortita: da assediati\nad assedianti. E
	 per questo nemmeno il 12 luglio torniamo a casa. Il concerto\nnon sarà pe
	r questo di fronte alla fabbrica\, ma sotto la torre di San Niccolò in\nPi
	azza Poggi.\n\nSarà solo un concerto? Crediamo che voi sappiate già la ris
	posta. Ma in ogni\ncaso\, che cosa sarà il 12 luglio dipende più da voi ch
	e da noi. Da quanto\ndeciderete di continuare a starci a fianco in questa 
	folle e visionaria\nconvergenza. Se voi spingete\, noi spingiamo.\n\nCi è 
	rimasta fame di un mondo nuovo che per noi vuol dire tornare a lavorare\,\
	nsconfiggere la speculazione\, la fabbrica socialmente integrata\, produrr
	e al\nservizio della transizione ecologica. Per il "noi" più allargato vuo
	l dire\nfermare il g3nocidio\, l'escalation bellica\, abbattere il patriar
	cato\,\nsconfiggere il crollo dei salari\, dei diritti ecc. ecc.\n\nPortat
	e tutto il vostro mondo nuovo che a noi è rimasta tanta fame.\nE scagliamo
	lo contro il muro di gomma per farlo cadere: stipendi\,\ncommissariamento\
	, legge regionale\, fabbrica socialmente integrata. Qui e ora.
URL:https://lapunta.org/event/mobilitazione-gkn
LOCATION:Torre di San Niccolò Firenze - Torre di San Niccolò Firenze
STATUS:CONFIRMED
CATEGORIES:
X-ALT-DESC;FMTTYPE=text/html:<p>12 luglio, Firenze, h 20.00, sotto la torre
	 di San Niccolò.<br>La fame non c'è passata. Abbiamo fame di un mondo nuov
	o.<br><br> Non è mai stato solo un concerto e infatti non sarà solo un con
	certo. Non è un "festeggiamento", perché di certo l'obiettivo non era di p
	er sè andare avanti tre anni. Ma abbiamo resistito per tre anni e ci merit
	iamo un concerto, un brindisi, un abbraccio. Siamo storia bella.<br><br> C
	on le ultime energie in corpo, abbiamo iniziato l'ultima sortita: da assed
	iati ad assedianti. E per questo nemmeno il 12 luglio torniamo a casa. Il 
	concerto non sarà per questo di fronte alla fabbrica, ma sotto la torre di
	 San Niccolò in Piazza Poggi.<br><br>Sarà solo un concerto? Crediamo che v
	oi sappiate già la risposta. Ma in ogni caso, che cosa sarà il 12 luglio d
	ipende più da voi che da noi. Da quanto deciderete di continuare a starci 
	a fianco in questa folle e visionaria convergenza. Se voi spingete, noi sp
	ingiamo.<br><br> Ci è rimasta fame di un mondo nuovo che per noi vuol dire
	 tornare a lavorare, sconfiggere la speculazione, la fabbrica socialmente 
	integrata, produrre al servizio della transizione ecologica. Per il "noi" 
	più allargato vuol dire fermare il g3nocidio, l'escalation bellica, abbatt
	ere il patriarcato, sconfiggere il crollo dei salari, dei diritti ecc. ecc
	.<br><br>Portate tutto il vostro mondo nuovo che a noi è rimasta tanta fam
	e.<br>E scagliamolo contro il muro di gomma per farlo cadere: stipendi, co
	mmissariamento, legge regionale, fabbrica socialmente integrata. Qui e ora
	.</p>
END:VEVENT
END:VCALENDAR
